BEGIN:VCALENDAR
VERSION:2.0
PRODID:-//kyohatsu//JP
CALSCALE:GREGORIAN
BEGIN:VEVENT
DTSTART;VALUE=DATE:20260604
SUMMARY:JK勇者と隠居魔王 2
DESCRIPTION:初雛 まつり 集英社
UID:9784088851136@kyohatsu.lb-product.com
END:VEVENT
BEGIN:VEVENT
DTSTART;VALUE=DATE:20260604
SUMMARY:JK勇者と隠居魔王 3
DESCRIPTION:初雛 まつり 集英社
UID:9784088851143@kyohatsu.lb-product.com
END:VEVENT
END:VCALENDAR
