BEGIN:VCALENDAR
VERSION:2.0
PRODID:-//kyohatsu//JP
CALSCALE:GREGORIAN
BEGIN:VEVENT
DTSTART;VALUE=DATE:20260623
SUMMARY:ふたりソロキャンプ（24）
DESCRIPTION:出端 祐大 講談社
UID:9784065436677@kyohatsu.lb-product.com
END:VEVENT
END:VCALENDAR
