BEGIN:VCALENDAR
VERSION:2.0
PRODID:-//kyohatsu//JP
CALSCALE:GREGORIAN
BEGIN:VEVENT
DTSTART;VALUE=DATE:20260521
SUMMARY:マルドゥック・アノニマス 11
DESCRIPTION:冲方　丁 早川書房
UID:9784150316181@kyohatsu.lb-product.com
END:VEVENT
END:VCALENDAR
