BEGIN:VCALENDAR
VERSION:2.0
PRODID:-//kyohatsu//JP
CALSCALE:GREGORIAN
BEGIN:VEVENT
DTSTART;VALUE=DATE:20260428
SUMMARY:君が忘れた物語
DESCRIPTION:冬野夜空 スターツ出版
UID:9784813796152@kyohatsu.lb-product.com
END:VEVENT
END:VCALENDAR
