BEGIN:VCALENDAR
VERSION:2.0
PRODID:-//kyohatsu//JP
CALSCALE:GREGORIAN
BEGIN:VEVENT
DTSTART;VALUE=DATE:20260610
SUMMARY:復讐が足りない（3）
DESCRIPTION:冬野 梅子 講談社
UID:9784065437377@kyohatsu.lb-product.com
END:VEVENT
END:VCALENDAR
