BEGIN:VCALENDAR
VERSION:2.0
PRODID:-//kyohatsu//JP
CALSCALE:GREGORIAN
BEGIN:VEVENT
DTSTART;VALUE=DATE:20260501
SUMMARY:悪役令嬢のダイエット革命！〜前世の知識で健康美を手に入れてざまぁします！〜
DESCRIPTION:冬月子 TOブックス
UID:9784867949931@kyohatsu.lb-product.com
END:VEVENT
END:VCALENDAR
