BEGIN:VCALENDAR
VERSION:2.0
PRODID:-//kyohatsu//JP
CALSCALE:GREGORIAN
BEGIN:VEVENT
DTSTART;VALUE=DATE:20260605
SUMMARY:腹黒聖女、拾ったケモミミ邪神と一緒に今日も悪を懲らしめます（1）
DESCRIPTION:冬島暮 竹書房
UID:9784801989825@kyohatsu.lb-product.com
END:VEVENT
END:VCALENDAR
