BEGIN:VCALENDAR
VERSION:2.0
PRODID:-//kyohatsu//JP
CALSCALE:GREGORIAN
BEGIN:VEVENT
DTSTART;VALUE=DATE:20260527
SUMMARY:世界の右翼 - 欧州保守政党でわかる国際情勢 -
DESCRIPTION:内藤 陽介 ワニブックス
UID:9784847076626@kyohatsu.lb-product.com
END:VEVENT
END:VCALENDAR
