BEGIN:VCALENDAR
VERSION:2.0
PRODID:-//kyohatsu//JP
CALSCALE:GREGORIAN
BEGIN:VEVENT
DTSTART;VALUE=DATE:20260601
SUMMARY:天下無敵をめざす生き方
DESCRIPTION:内田 樹 草思社
UID:9784794228345@kyohatsu.lb-product.com
END:VEVENT
END:VCALENDAR
