BEGIN:VCALENDAR
VERSION:2.0
PRODID:-//kyohatsu//JP
CALSCALE:GREGORIAN
BEGIN:VEVENT
DTSTART;VALUE=DATE:20260501
SUMMARY:透明人間
DESCRIPTION:六仙 文芸社
UID:9784286274508@kyohatsu.lb-product.com
END:VEVENT
END:VCALENDAR
