BEGIN:VCALENDAR
VERSION:2.0
PRODID:-//kyohatsu//JP
CALSCALE:GREGORIAN
BEGIN:VEVENT
DTSTART;VALUE=DATE:20260528
SUMMARY:こい丸（2）
DESCRIPTION:公たくみ 小学館
UID:9784091542724@kyohatsu.lb-product.com
END:VEVENT
END:VCALENDAR
