BEGIN:VCALENDAR
VERSION:2.0
PRODID:-//kyohatsu//JP
CALSCALE:GREGORIAN
BEGIN:VEVENT
DTSTART;VALUE=DATE:20260507
SUMMARY:京都今出川の謎解きキッチンカー
DESCRIPTION:入夏 紫音 宝島社
UID:9784299077509@kyohatsu.lb-product.com
END:VEVENT
END:VCALENDAR
