BEGIN:VCALENDAR
VERSION:2.0
PRODID:-//kyohatsu//JP
CALSCALE:GREGORIAN
BEGIN:VEVENT
DTSTART;VALUE=DATE:20260616
SUMMARY:ビリ赤ほっぺ　ビリから広島大に合格、大学院後の4年間で新潟大学の教授にナッチャッタ
DESCRIPTION:児島清秀 AmazingAdventure
UID:9784434380495@kyohatsu.lb-product.com
END:VEVENT
END:VCALENDAR
