BEGIN:VCALENDAR
VERSION:2.0
PRODID:-//kyohatsu//JP
CALSCALE:GREGORIAN
BEGIN:VEVENT
DTSTART;VALUE=DATE:20260629
SUMMARY:ふたりエッチ 95
DESCRIPTION:克・亜樹 白泉社
UID:9784592160953@kyohatsu.lb-product.com
END:VEVENT
END:VCALENDAR
