BEGIN:VCALENDAR
VERSION:2.0
PRODID:-//kyohatsu//JP
CALSCALE:GREGORIAN
BEGIN:VEVENT
DTSTART;VALUE=DATE:20260601
SUMMARY:意地悪姉と呼ばれた令嬢、実はとても優れた魔法使いでした。2
DESCRIPTION:光子 TOブックス
UID:9784868540175@kyohatsu.lb-product.com
END:VEVENT
END:VCALENDAR
