BEGIN:VCALENDAR
VERSION:2.0
PRODID:-//kyohatsu//JP
CALSCALE:GREGORIAN
BEGIN:VEVENT
DTSTART;VALUE=DATE:20260630
SUMMARY:【グッズ】TVアニメ「光が死んだ夏」お疲れ様本
DESCRIPTION:光が死んだ夏 
UID:4595319851789@kyohatsu.lb-product.com
END:VEVENT
END:VCALENDAR
