BEGIN:VCALENDAR
VERSION:2.0
PRODID:-//kyohatsu//JP
CALSCALE:GREGORIAN
BEGIN:VEVENT
DTSTART;VALUE=DATE:20260427
SUMMARY:新・小料理のどか屋 人情帖1　再起の灯
DESCRIPTION:倉阪鬼一郎 二見書房
UID:9784576260044@kyohatsu.lb-product.com
END:VEVENT
END:VCALENDAR
