BEGIN:VCALENDAR
VERSION:2.0
PRODID:-//kyohatsu//JP
CALSCALE:GREGORIAN
BEGIN:VEVENT
DTSTART;VALUE=DATE:20260625
SUMMARY:夜を教えて千夜来くん 2
DESCRIPTION:倉瀬 しの 集英社
UID:9784088432717@kyohatsu.lb-product.com
END:VEVENT
END:VCALENDAR
