BEGIN:VCALENDAR
VERSION:2.0
PRODID:-//kyohatsu//JP
CALSCALE:GREGORIAN
BEGIN:VEVENT
DTSTART;VALUE=DATE:20260513
SUMMARY:星降る島のフットボーラー
DESCRIPTION:倉敷保雄 双葉社
UID:9784575529258@kyohatsu.lb-product.com
END:VEVENT
END:VCALENDAR
