BEGIN:VCALENDAR
VERSION:2.0
PRODID:-//kyohatsu//JP
CALSCALE:GREGORIAN
BEGIN:VEVENT
DTSTART;VALUE=DATE:20260516
SUMMARY:シリウスへの帰還指令
DESCRIPTION:保江邦夫 青林堂
UID:9784792607982@kyohatsu.lb-product.com
END:VEVENT
END:VCALENDAR
