BEGIN:VCALENDAR
VERSION:2.0
PRODID:-//kyohatsu//JP
CALSCALE:GREGORIAN
BEGIN:VEVENT
DTSTART;VALUE=DATE:20260520
SUMMARY:なぜ石田三成は関ヶ原で戦ったのか
DESCRIPTION:佐賀 郁朗 サンライズ出版
UID:9784883258727@kyohatsu.lb-product.com
END:VEVENT
END:VCALENDAR
