BEGIN:VCALENDAR
VERSION:2.0
PRODID:-//kyohatsu//JP
CALSCALE:GREGORIAN
BEGIN:VEVENT
DTSTART;VALUE=DATE:20260508
SUMMARY:家康と七人の忍び
DESCRIPTION:佐藤賢一 中央公論新社
UID:9784120060267@kyohatsu.lb-product.com
END:VEVENT
END:VCALENDAR
