BEGIN:VCALENDAR
VERSION:2.0
PRODID:-//kyohatsu//JP
CALSCALE:GREGORIAN
BEGIN:VEVENT
DTSTART;VALUE=DATE:20260511
SUMMARY:佐藤愛子の一喝箴言集2　それがどうした！
DESCRIPTION:佐藤愛子 きずな出版
UID:9784866633329@kyohatsu.lb-product.com
END:VEVENT
END:VCALENDAR
