BEGIN:VCALENDAR
VERSION:2.0
PRODID:-//kyohatsu//JP
CALSCALE:GREGORIAN
BEGIN:VEVENT
DTSTART;VALUE=DATE:20260507
SUMMARY:ドキュメント 三島由紀夫 VS 吉本隆明
DESCRIPTION:佐藤 幹夫 言視舎
UID:9784865653090@kyohatsu.lb-product.com
END:VEVENT
END:VCALENDAR
