BEGIN:VCALENDAR
VERSION:2.0
PRODID:-//kyohatsu//JP
CALSCALE:GREGORIAN
BEGIN:VEVENT
DTSTART;VALUE=DATE:20260610
SUMMARY:五十歳からの知的撤退戦
DESCRIPTION:佐藤 優 宝島社
UID:9784299078797@kyohatsu.lb-product.com
END:VEVENT
END:VCALENDAR
