BEGIN:VCALENDAR
VERSION:2.0
PRODID:-//kyohatsu//JP
CALSCALE:GREGORIAN
BEGIN:VEVENT
DTSTART;VALUE=DATE:20260520
SUMMARY:少女と毒
DESCRIPTION:佐藤 まどか 講談社
UID:9784065430194@kyohatsu.lb-product.com
END:VEVENT
END:VCALENDAR
