BEGIN:VCALENDAR
VERSION:2.0
PRODID:-//kyohatsu//JP
CALSCALE:GREGORIAN
BEGIN:VEVENT
DTSTART;VALUE=DATE:20260605
SUMMARY:神隠しの楽園　9
DESCRIPTION:佐原　玄清 KADOKAWA
UID:9784046602824@kyohatsu.lb-product.com
END:VEVENT
END:VCALENDAR
