BEGIN:VCALENDAR
VERSION:2.0
PRODID:-//kyohatsu//JP
CALSCALE:GREGORIAN
BEGIN:VEVENT
DTSTART;VALUE=DATE:20260623
SUMMARY:ガクサン（16）
DESCRIPTION:佐原 実波 講談社
UID:9784065439579@kyohatsu.lb-product.com
END:VEVENT
END:VCALENDAR
