BEGIN:VCALENDAR
VERSION:2.0
PRODID:-//kyohatsu//JP
CALSCALE:GREGORIAN
BEGIN:VEVENT
DTSTART;VALUE=DATE:20260522
SUMMARY:嫌われおじさん 愛されおじさん
DESCRIPTION:佐伯 ポインティ 亜紀書房
UID:9784750519111@kyohatsu.lb-product.com
END:VEVENT
END:VCALENDAR
