BEGIN:VCALENDAR
VERSION:2.0
PRODID:-//kyohatsu//JP
CALSCALE:GREGORIAN
BEGIN:VEVENT
DTSTART;VALUE=DATE:20260527
SUMMARY:横浜共同租界
DESCRIPTION:佐々木譲 光文社
UID:9784334109844@kyohatsu.lb-product.com
END:VEVENT
END:VCALENDAR
