BEGIN:VCALENDAR
VERSION:2.0
PRODID:-//kyohatsu//JP
CALSCALE:GREGORIAN
BEGIN:VEVENT
DTSTART;VALUE=DATE:20260507
SUMMARY:ゆうれい屋敷　斬！江戸の用心棒
DESCRIPTION:佐々木裕一 朝日新聞出版
UID:9784022652416@kyohatsu.lb-product.com
END:VEVENT
END:VCALENDAR
