BEGIN:VCALENDAR
VERSION:2.0
PRODID:-//kyohatsu//JP
CALSCALE:GREGORIAN
BEGIN:VEVENT
DTSTART;VALUE=DATE:20260512
SUMMARY:私本 日本書紀 上
DESCRIPTION:佐々木とほみ 風詠社
UID:9784434378591@kyohatsu.lb-product.com
END:VEVENT
BEGIN:VEVENT
DTSTART;VALUE=DATE:20260512
SUMMARY:私本 日本書紀 中
DESCRIPTION:佐々木とほみ 風詠社
UID:9784434378607@kyohatsu.lb-product.com
END:VEVENT
BEGIN:VEVENT
DTSTART;VALUE=DATE:20260512
SUMMARY:私本 日本書紀 下 （附）私本倭国書紀
DESCRIPTION:佐々木とほみ 風詠社
UID:9784434378614@kyohatsu.lb-product.com
END:VEVENT
END:VCALENDAR
