BEGIN:VCALENDAR
VERSION:2.0
PRODID:-//kyohatsu//JP
CALSCALE:GREGORIAN
BEGIN:VEVENT
DTSTART;VALUE=DATE:20260528
SUMMARY:裂けた明日
DESCRIPTION:佐々木 譲 新潮社
UID:9784101223308@kyohatsu.lb-product.com
END:VEVENT
END:VCALENDAR
