BEGIN:VCALENDAR
VERSION:2.0
PRODID:-//kyohatsu//JP
CALSCALE:GREGORIAN
BEGIN:VEVENT
DTSTART;VALUE=DATE:20260604
SUMMARY:サンキューピッチ 6
DESCRIPTION:住吉 九 集英社
UID:9784088850658@kyohatsu.lb-product.com
END:VEVENT
END:VCALENDAR
