BEGIN:VCALENDAR
VERSION:2.0
PRODID:-//kyohatsu//JP
CALSCALE:GREGORIAN
BEGIN:VEVENT
DTSTART;VALUE=DATE:20260529
SUMMARY:泡沫のムジナ　3巻
DESCRIPTION:会田小路ちょこぷでぃんぐ 一迅社
UID:9784758099189@kyohatsu.lb-product.com
END:VEVENT
END:VCALENDAR
