BEGIN:VCALENDAR
VERSION:2.0
PRODID:-//kyohatsu//JP
CALSCALE:GREGORIAN
BEGIN:VEVENT
DTSTART;VALUE=DATE:20260502
SUMMARY:若親分、討つ　目明かし常吉の神楽坂捕物帖
DESCRIPTION:伍代 圭佑 潮出版社
UID:9784267024962@kyohatsu.lb-product.com
END:VEVENT
END:VCALENDAR
