BEGIN:VCALENDAR
VERSION:2.0
PRODID:-//kyohatsu//JP
CALSCALE:GREGORIAN
BEGIN:VEVENT
DTSTART;VALUE=DATE:20260523
SUMMARY:ニッポン風俗100年史
DESCRIPTION:伊藤裕作 人間社
UID:9784911052273@kyohatsu.lb-product.com
END:VEVENT
END:VCALENDAR
