BEGIN:VCALENDAR
VERSION:2.0
PRODID:-//kyohatsu//JP
CALSCALE:GREGORIAN
BEGIN:VEVENT
DTSTART;VALUE=DATE:20260718
SUMMARY:誘魚灯【完全生産限定アナログ盤】
DESCRIPTION:伊藤美奈子 (株)ソニー・ミュージックダイレクト
UID:4547366800197@kyohatsu.lb-product.com
END:VEVENT
END:VCALENDAR
