BEGIN:VCALENDAR
VERSION:2.0
PRODID:-//kyohatsu//JP
CALSCALE:GREGORIAN
BEGIN:VEVENT
DTSTART;VALUE=DATE:20260605
SUMMARY:警視庁裏金課
DESCRIPTION:伊藤 尋也 小学館
UID:9784094075748@kyohatsu.lb-product.com
END:VEVENT
END:VCALENDAR
