BEGIN:VCALENDAR
VERSION:2.0
PRODID:-//kyohatsu//JP
CALSCALE:GREGORIAN
BEGIN:VEVENT
DTSTART;VALUE=DATE:20260618
SUMMARY:さよなら僕のアイドル 2
DESCRIPTION:伊藤 ゆうた 集英社
UID:9784088941974@kyohatsu.lb-product.com
END:VEVENT
END:VCALENDAR
