BEGIN:VCALENDAR
VERSION:2.0
PRODID:-//kyohatsu//JP
CALSCALE:GREGORIAN
BEGIN:VEVENT
DTSTART;VALUE=DATE:20260604
SUMMARY:殺戮ロボと人のマナカ
DESCRIPTION:伊織 直 集英社
UID:9784088850535@kyohatsu.lb-product.com
END:VEVENT
END:VCALENDAR
