BEGIN:VCALENDAR
VERSION:2.0
PRODID:-//kyohatsu//JP
CALSCALE:GREGORIAN
BEGIN:VEVENT
DTSTART;VALUE=DATE:20260529
SUMMARY:おそらくカノジョは俺の兄貴を狙ってる 2
DESCRIPTION:伊瀬 まるの 白泉社
UID:9784592160304@kyohatsu.lb-product.com
END:VEVENT
END:VCALENDAR
