BEGIN:VCALENDAR
VERSION:2.0
PRODID:-//kyohatsu//JP
CALSCALE:GREGORIAN
BEGIN:VEVENT
DTSTART;VALUE=DATE:20260501
SUMMARY:戦国のFDR〜シン「淀」の物語〜
DESCRIPTION:伊東秋彦 文芸社
UID:9784286277462@kyohatsu.lb-product.com
END:VEVENT
END:VCALENDAR
