BEGIN:VCALENDAR
VERSION:2.0
PRODID:-//kyohatsu//JP
CALSCALE:GREGORIAN
BEGIN:VEVENT
DTSTART;VALUE=DATE:20260527
SUMMARY:nostalgia 〜記憶に残る風景〜
DESCRIPTION:伊東栄笑 ブーンカンパニー・ミュージック
UID:4580232230094@kyohatsu.lb-product.com
END:VEVENT
END:VCALENDAR
