BEGIN:VCALENDAR
VERSION:2.0
PRODID:-//kyohatsu//JP
CALSCALE:GREGORIAN
BEGIN:VEVENT
DTSTART;VALUE=DATE:20260612
SUMMARY:ヒミコの暗号 (下)
DESCRIPTION:伊勢谷 武 宝島社
UID:9784299075291@kyohatsu.lb-product.com
END:VEVENT
END:VCALENDAR
