BEGIN:VCALENDAR
VERSION:2.0
PRODID:-//kyohatsu//JP
CALSCALE:GREGORIAN
BEGIN:VEVENT
DTSTART;VALUE=DATE:20260605
SUMMARY:こんなDomでも服従したい
DESCRIPTION:伊佐治どろ 芳文社
UID:9784832293304@kyohatsu.lb-product.com
END:VEVENT
END:VCALENDAR
