BEGIN:VCALENDAR
VERSION:2.0
PRODID:-//kyohatsu//JP
CALSCALE:GREGORIAN
BEGIN:VEVENT
DTSTART;VALUE=DATE:20260529
SUMMARY:同居人がこの世のモンじゃない　2
DESCRIPTION:仲邑 エンジツ 少年画報社
UID:9784785982096@kyohatsu.lb-product.com
END:VEVENT
BEGIN:VEVENT
DTSTART;VALUE=DATE:20260529
SUMMARY:ムジナとミサキ　2
DESCRIPTION:仲邑 エンジツ 少年画報社
UID:9784785982102@kyohatsu.lb-product.com
END:VEVENT
END:VCALENDAR
