BEGIN:VCALENDAR
VERSION:2.0
PRODID:-//kyohatsu//JP
CALSCALE:GREGORIAN
BEGIN:VEVENT
DTSTART;VALUE=DATE:20260619
SUMMARY:スキップ・ビート！ 53
DESCRIPTION:仲村 佳樹 白泉社
UID:9784592225836@kyohatsu.lb-product.com
END:VEVENT
END:VCALENDAR
