BEGIN:VCALENDAR
VERSION:2.0
PRODID:-//kyohatsu//JP
CALSCALE:GREGORIAN
BEGIN:VEVENT
DTSTART;VALUE=DATE:20260721
SUMMARY:kiseki
DESCRIPTION:代々木女子音楽院 (株)ロックフィールド
UID:4562350610255@kyohatsu.lb-product.com
END:VEVENT
END:VCALENDAR
