BEGIN:VCALENDAR
VERSION:2.0
PRODID:-//kyohatsu//JP
CALSCALE:GREGORIAN
BEGIN:VEVENT
DTSTART;VALUE=DATE:20260515
SUMMARY:（新装版）熱波
DESCRIPTION:今野 敏 角川春樹事務所
UID:9784758448116@kyohatsu.lb-product.com
END:VEVENT
BEGIN:VEVENT
DTSTART;VALUE=DATE:20260525
SUMMARY:脈動
DESCRIPTION:今野　敏 KADOKAWA
UID:9784041171370@kyohatsu.lb-product.com
END:VEVENT
END:VCALENDAR
